{"text_format":"1","workbook":"xlsx","n_sheets":13,"sheets":["Dés","aléatoire","base","Résultats","2gX","3gX","4gX","5gX","6gX","7gX","8gX","9gX","10gX"],"not_rendered":{"charts":0,"images":2,"macros":1,"external_links":0,"defined_names":11,"comments":0,"pivot_tables":0},"unopened":[],"bounds":{"document_bytes":16777216,"sheet_cells":100000,"rows_first":2000,"rows_last":500,"rows_between":2000,"halvings":0,"cell_chars":16384,"cell_head_chars":4096},"cells_cut":0,"cells_raw":0,"read":"whole","date_system":"1900"}

{"sheet":"Dés","index":0,"n_rows":14,"n_cols":17,"rows_kept":14,"cut":false,"hidden":false,"merged":[[0,14,0,16],[9,6,10,12],[11,6,13,12]]}
["X","G","X",null,null,null,null,"Dé réels",{"$f":"A7","v":5},"g",{"$f":"C7","v":3},"+",{"$f":"D6","v":0},null,"Résultat du jet "]
[5,"g",3,null,null,null,null,null,null,null,null,null,null,null,null,"résultat du dé","Dé + bonus (si >10g10)"]
[{"$f":"A2-10","v":-5},null,null,null,null,null,null,null,null,null,null,null,null,null,{"$f":"CONCATENATE($I$1,$J$1,$K$1)","v":"5g3"},{"$f":"IF(ISNA(HLOOKUP(O3,Résultats!B1:K2,2,0)),0,HLOOKUP(O3,Résultats!B1:K2,2,0))","v":0},{"$f":"P3+$M$1","v":0}]
[{"$f":"IF(A3<0,0,A3)","v":0},null,{"$f":"ROUNDDOWN(C2+(A4/2),0)","v":3},null,null,null,null,null,null,null,null,null,null,null,{"$f":"CONCATENATE($I$1,$J$1,$K$1)","v":"5g3"},{"$f":"IF(ISNA(HLOOKUP(O4,Résultats!B3:K4,2,0)),0,HLOOKUP(O4,Résultats!B3:K4,2,0))","v":0},0]
[null,null,{"$f":"C4-10","v":-7},null,null,null,null,null,null,null,null,null,null,null,"5g3",{"$f":"IF(ISNA(HLOOKUP(O5,Résultats!B5:K6,2,0)),0,HLOOKUP(O5,Résultats!B5:K6,2,0))","v":14},14]
[null,null,{"$f":"IF(C5<0,0,ROUNDDOWN(C5,0))","v":0},{"$f":"C6*2","v":0},null,null,null,null,null,null,null,null,null,null,"5g3",{"$f":"IF(ISNA(HLOOKUP(O6,Résultats!B7:K8,2,0)),0,HLOOKUP(O6,Résultats!B7:K8,2,0))","v":0},0]
[{"$f":"IF(A2>10,10,A2)","v":5},null,{"$f":"IF(C4>10,10,C4)","v":3},null,null,null,null,null,null,null,null,null,null,null,"5g3",{"$f":"IF(ISNA(HLOOKUP(O7,Résultats!B9:K10,2,0)),0,HLOOKUP(O7,Résultats!B9:K10,2,0))","v":0},0]
[null,null,null,null,null,null,null,null,null,null,null,null,null,null,"5g3",{"$f":"IF(ISNA(HLOOKUP(O8,Résultats!B11:K12,2,0)),0,HLOOKUP(O8,Résultats!B11:K12,2,0))","v":0},0]
[null,null,null,null,null,null,null,null,null,null,null,null,null,null,"5g3",{"$f":"IF(ISNA(HLOOKUP(O9,Résultats!B13:K14,2,0)),0,HLOOKUP(O9,Résultats!B13:K14,2,0))","v":0},0]
[null,null,null,null,null,null,"Résultat :",null,null,null,null,null,null,null,"5g3",{"$f":"IF(ISNA(HLOOKUP(O10,Résultats!B15:K16,2,0)),0,HLOOKUP(O10,Résultats!B15:K16,2,0))","v":0},0]
[null,null,null,null,null,null,null,null,null,null,null,null,null,null,"5g3",{"$f":"IF(ISNA(HLOOKUP(O11,Résultats!B17:K18,2,0)),0,HLOOKUP(O11,Résultats!B17:K18,2,0))","v":0},0]
[null,null,null,null,null,null,{"$f":"Q14","v":14},null,null,null,null,null,null,null,"5g3",{"$f":"IF(ISNA(HLOOKUP(O12,Résultats!B19:K20,2,0)),0,HLOOKUP(O12,Résultats!B19:K20,2,0))","v":0},0]
[]
[null,null,null,null,null,null,null,null,null,null,null,null,null,null,null,{"$f":"SUM(P3:P12)","v":14},{"$f":"SUM(Q3:Q12)","v":14}]

{"sheet":"aléatoire","index":1,"n_rows":11,"n_cols":6,"rows_kept":11,"cut":false,"hidden":false,"merged":[]}
[null,"jet","expl1","expl2","expl3","somme"]
[1,{"$f":"RANDBETWEEN(1,10)","v":7},{"$f":"IF(B2=10,RANDBETWEEN(1,10),0)","v":0},0,0,{"$f":"SUM(B2:E2)","v":7}]
[2,6,0,0,0,6]
[3,4,0,0,0,4]
[4,7,0,0,0,7]
[5,6,0,0,0,6]
[6,1,0,0,0,1]
[7,8,0,0,0,8]
[8,4,0,0,0,4]
[9,3,0,0,0,3]
[10,2,0,0,0,2]

{"sheet":"base","index":2,"n_rows":11,"n_cols":1,"rows_kept":11,"cut":false,"hidden":false,"merged":[]}
["base"]
[7]
[4]
[3]
[1]
[2]
[1]
[4]
[5]
[12]
[8]

{"sheet":"Résultats","index":3,"n_rows":20,"n_cols":11,"rows_kept":20,"cut":false,"hidden":false,"merged":[]}
["1g1","2g1","3g1","4g1","5g1","6g1","7g1","8g1","9g1","10g1"]
[{"$f":"base!A2","v":7},{"$f":"MAX(base!A2:A3)","v":7},{"$f":"MAX(base!$A$2:$A$4)","v":7},{"$f":"MAX(base!$A$2:$A$5)","v":7},{"$f":"MAX(base!$A$2:$A$6)","v":7},{"$f":"MAX(base!$A$2:$A$7)","v":7},{"$f":"MAX(base!$A$2:$A$8)","v":7},{"$f":"MAX(base!$A$2:$A$9)","v":7},{"$f":"MAX(base!$A$2:$A$10)","v":12},{"$f":"MAX(base!$A$2:$A$11)","v":12}]
[null,"2g2","3g2","4g2","5g2","6g2","7g2","8g2","9g2","10g2"]
[null,{"$f":"SUM(base!$A$2:$A3)","v":11},{"$f":"SUM('3gX'!$A$2:$A$3)","v":11},{"$f":"SUM('4gX'!$A$2:$A$3)","v":11},{"$f":"SUM('5gX'!$A$2:$A$3)","v":11},{"$f":"SUM('6gX'!$A$2:$A$3)","v":11},{"$f":"SUM('7gX'!$A$2:$A$3)","v":11},{"$f":"SUM('8gX'!$A$2:$A$3)","v":12},{"$f":"SUM('9gX'!$A$2:$A$3)","v":19},{"$f":"SUM('10gX'!$A$2:$A$3)","v":20}]
[null,null,"3g3","4g3","5g3","6g3","7g3","8g3","9g3","10g3"]
[null,null,{"$f":"SUM(base!$A$2:$A4)","v":14},{"$f":"SUM('4gX'!$A$2:$A$4)","v":14},{"$f":"SUM('5gX'!$A$2:$A$4)","v":14},{"$f":"SUM('6gX'!$A$2:$A$4)","v":14},{"$f":"SUM('7gX'!$A$2:$A$4)","v":15},{"$f":"SUM('8gX'!$A$2:$A$4)","v":16},{"$f":"SUM('9gX'!$A$2:$A$4)","v":24},{"$f":"SUM('10gX'!$A$2:$A$4)","v":27}]
[null,null,null,"4g4","5g4","6g4","7g4","8g4","9g4","10g4"]
[null,null,null,{"$f":"SUM(base!$A$2:$A5)","v":15},{"$f":"SUM('5gX'!$A$2:$A$5)","v":16},{"$f":"SUM('6gX'!$A$2:$A$5)","v":16},{"$f":"SUM('7gX'!$A$2:$A$5)","v":18},{"$f":"SUM('8gX'!$A$2:$A$5)","v":20},{"$f":"SUM('9gX'!$A$2:$A$5)","v":28},{"$f":"SUM('10gX'!$A$2:$A$5)","v":32}]
[null,null,null,null,"5g5","6g5","7g5","8g5","9g5","10g5"]
[null,null,null,null,{"$f":"SUM(base!$A$2:$A6)","v":17},{"$f":"SUM('6gX'!$A$2:$A$6)","v":17},{"$f":"SUM('7gX'!$A$2:$A$6)","v":20},{"$f":"SUM('8gX'!$A$2:$A$6)","v":23},{"$f":"SUM('9gX'!$A$2:$A$6)","v":32},{"$f":"SUM('10gX'!$A$2:$A$6)","v":36}]
[null,null,null,null,null,"6g6","7g6","8g6","9g6","10g6"]
[null,null,null,null,null,{"$f":"SUM(base!$A$2:$A7)","v":18},{"$f":"SUM('7gX'!$A$2:$A$7)","v":21},{"$f":"SUM('8gX'!$A$2:$A$7)","v":25},{"$f":"SUM('9gX'!$A$2:$A$7)","v":35},{"$f":"SUM('10gX'!$A$2:$A$7)","v":40}]
[null,null,null,null,null,null,"7g7","8g7","9g7","10g7"]
[null,null,null,null,null,null,{"$f":"SUM(base!$A$2:$A8)","v":22},{"$f":"SUM('8gX'!$A$2:$A$8)","v":26},{"$f":"SUM('9gX'!$A$2:$A$8)","v":37},{"$f":"SUM('10gX'!$A$2:$A$8)","v":43}]
[null,null,null,null,null,null,null,"8g8","9g8","10g8"]
[null,null,null,null,null,null,null,{"$f":"SUM(base!$A$2:$A9)","v":27},{"$f":"SUM('9gX'!$A$2:$A$9)","v":38},{"$f":"SUM('10gX'!$A$2:$A$9)","v":45}]
[null,null,null,null,null,null,null,null,"9g9","10g9"]
[null,null,null,null,null,null,null,null,{"$f":"SUM(base!$A$2:$A10)","v":39},{"$f":"SUM('10gX'!$A$2:$A$10)","v":46}]
[null,null,null,null,null,null,null,null,null,"10g10","10g10+"]
[null,null,null,null,null,null,null,null,null,{"$f":"SUM(base!$A$2:$A11)","v":47},{"$f":"J20+Dés!M1","v":47}]

{"sheet":"2gX","index":4,"n_rows":3,"n_cols":1,"rows_kept":3,"cut":false,"hidden":false,"merged":[]}
["Base g2"]
[{"$f":"base!$A2","v":7}]
[{"$f":"base!$A3","v":4}]

{"sheet":"3gX","index":5,"n_rows":4,"n_cols":1,"rows_kept":4,"cut":false,"hidden":false,"merged":[]}
["Base g3"]
[{"$f":"base!$A2","v":7}]
[{"$f":"base!$A3","v":4}]
[{"$f":"base!$A4","v":3}]

{"sheet":"4gX","index":6,"n_rows":5,"n_cols":1,"rows_kept":5,"cut":false,"hidden":false,"merged":[]}
["Base g4"]
[{"$f":"base!$A2","v":7}]
[{"$f":"base!$A3","v":4}]
[{"$f":"base!$A4","v":3}]
[{"$f":"base!$A5","v":1}]

{"sheet":"5gX","index":7,"n_rows":6,"n_cols":1,"rows_kept":6,"cut":false,"hidden":false,"merged":[]}
["Base g5"]
[{"$f":"base!$A2","v":7}]
[{"$f":"base!$A3","v":4}]
[{"$f":"base!$A4","v":3}]
[{"$f":"base!$A6","v":2}]
[{"$f":"base!$A5","v":1}]

{"sheet":"6gX","index":8,"n_rows":7,"n_cols":1,"rows_kept":7,"cut":false,"hidden":false,"merged":[]}
["Base g6"]
[{"$f":"base!$A2","v":7}]
[{"$f":"base!$A3","v":4}]
[{"$f":"base!$A4","v":3}]
[{"$f":"base!$A6","v":2}]
[{"$f":"base!$A7","v":1}]
[{"$f":"base!$A5","v":1}]

{"sheet":"7gX","index":9,"n_rows":8,"n_cols":1,"rows_kept":8,"cut":false,"hidden":false,"merged":[]}
["Base g7"]
[{"$f":"base!$A2","v":7}]
[{"$f":"base!$A8","v":4}]
[{"$f":"base!$A3","v":4}]
[{"$f":"base!$A4","v":3}]
[{"$f":"base!$A6","v":2}]
[{"$f":"base!$A7","v":1}]
[{"$f":"base!$A5","v":1}]

{"sheet":"8gX","index":10,"n_rows":9,"n_cols":1,"rows_kept":9,"cut":false,"hidden":false,"merged":[]}
["Base g8"]
[{"$f":"base!$A2","v":7}]
[{"$f":"base!$A9","v":5}]
[{"$f":"base!$A8","v":4}]
[{"$f":"base!$A3","v":4}]
[{"$f":"base!$A4","v":3}]
[{"$f":"base!$A6","v":2}]
[{"$f":"base!$A7","v":1}]
[{"$f":"base!$A5","v":1}]

{"sheet":"9gX","index":11,"n_rows":10,"n_cols":1,"rows_kept":10,"cut":false,"hidden":false,"merged":[]}
["Base g9"]
[{"$f":"base!$A10","v":12}]
[{"$f":"base!$A2","v":7}]
[{"$f":"base!$A9","v":5}]
[{"$f":"base!$A8","v":4}]
[{"$f":"base!$A3","v":4}]
[{"$f":"base!$A4","v":3}]
[{"$f":"base!$A6","v":2}]
[{"$f":"base!$A7","v":1}]
[{"$f":"base!$A5","v":1}]

{"sheet":"10gX","index":12,"n_rows":11,"n_cols":1,"rows_kept":11,"cut":false,"hidden":false,"merged":[]}
["Base g10"]
[{"$f":"base!$A10","v":12}]
[{"$f":"base!$A11","v":8}]
[{"$f":"base!$A2","v":7}]
[{"$f":"base!$A9","v":5}]
[{"$f":"base!$A8","v":4}]
[{"$f":"base!$A3","v":4}]
[{"$f":"base!$A4","v":3}]
[{"$f":"base!$A6","v":2}]
[{"$f":"base!$A7","v":1}]
[{"$f":"base!$A5","v":1}]